BEGIN:VCALENDAR
VERSION:2.0
PRODID:-//Real Weddings Magazine - ECPv6.15.20//NONSGML v1.0//EN
CALSCALE:GREGORIAN
METHOD:PUBLISH
X-ORIGINAL-URL:https://realweddingsmag.com
X-WR-CALDESC:Events for Real Weddings Magazine
REFRESH-INTERVAL;VALUE=DURATION:PT1H
X-Robots-Tag:noindex
X-PUBLISHED-TTL:PT1H
BEGIN:VTIMEZONE
TZID:America/Los_Angeles
BEGIN:DAYLIGHT
TZOFFSETFROM:-0800
TZOFFSETTO:-0700
TZNAME:PDT
DTSTART:20220313T100000
END:DAYLIGHT
BEGIN:STANDARD
TZOFFSETFROM:-0700
TZOFFSETTO:-0800
TZNAME:PST
DTSTART:20221106T090000
END:STANDARD
BEGIN:DAYLIGHT
TZOFFSETFROM:-0800
TZOFFSETTO:-0700
TZNAME:PDT
DTSTART:20230312T100000
END:DAYLIGHT
BEGIN:STANDARD
TZOFFSETFROM:-0700
TZOFFSETTO:-0800
TZNAME:PST
DTSTART:20231105T090000
END:STANDARD
BEGIN:DAYLIGHT
TZOFFSETFROM:-0800
TZOFFSETTO:-0700
TZNAME:PDT
DTSTART:20240310T100000
END:DAYLIGHT
BEGIN:STANDARD
TZOFFSETFROM:-0700
TZOFFSETTO:-0800
TZNAME:PST
DTSTART:20241103T090000
END:STANDARD
END:VTIMEZONE
BEGIN:VEVENT
DTSTART;TZID=America/Los_Angeles:20230806T110000
DTEND;TZID=America/Los_Angeles:20230806T150000
DTSTAMP:20260421T014329
CREATED:20221024T190901Z
LAST-MODIFIED:20230721T203149Z
UID:10002020-1691319600-1691334000@realweddingsmag.com
SUMMARY:International Wedding Festival's Santa Clara Bridal Show - August 2023
DESCRIPTION:Plan Your Big Day in Just One Day!  Find photographers\, DJ’s\, Limos\, Event Planners\, Florists\, Bakeries\, Honeymoons\, and learn hundreds of ideas to make your wedding what you want it to be! \nEVENT:  International Wedding Festival – Santa Clara Bridal Show\nWHEN:  Sunday\, August 6\, 2023\nTIME:  11 a.m. – 3 p.m.\nWHERE:  Pavilion Hall @ California’s Great America\nCOST:  Tickets are $15 or $100 for the VIP experience! \nFor more information about this fantastic bridal show/wedding expo\, please contact the event producer through their website or through their FB or Insta Page! \nAnd\, be sure to stop by the Real Weddings booth to get a complimentary copy of the newest issue along with our groovy reusable tote bag\, and enter to win a great giveaway! \nClick here to check out our bridal show tips before you go!\n 
URL:https://realweddingsmag.com/event/international-wedding-festivals-santa-clara-bridal-show-august-2023/
LOCATION:Pavilion Hall at California’s Great America\, 4701 Great America Pkwy\, Santa Clara\, CA\, 95054
ATTACH;FMTTYPE=image/jpeg:https://realweddingsmag.com/wp-content/uploads/2022/10/International-Wedding-Festival-Northern-California-Bridal-Show-Santa-Clara.jpg
ORGANIZER;CN="International Wedding Festival":MAILTO:sales@internationalweddingfestival.com
END:VEVENT
BEGIN:VEVENT
DTSTART;TZID=America/Los_Angeles:20230326T110000
DTEND;TZID=America/Los_Angeles:20230326T150000
DTSTAMP:20260421T014329
CREATED:20221024T180226Z
LAST-MODIFIED:20230223T154259Z
UID:10002151-1679828400-1679842800@realweddingsmag.com
SUMMARY:International Wedding Festival's Santa Clara Bridal Show - March 2023
DESCRIPTION:Plan Your Big Day in Just One Day!  Find photographers\, DJ’s\, Limos\, Event Planners\, Florists\, Bakeries\, Honeymoons\, and learn hundreds of ideas to make your wedding what you want it to be! \nEVENT:  International Wedding Festival – Santa Clara Bridal Show\nWHEN:  Sunday\, March 26\, 2023\nTIME:  11 a.m. – 3 p.m.\nWHERE:  Pavilion Hall @ California’s Great America\nCOST:  Tickets are $15 or $100 for the VIP experience! \nFor more information about this fantastic bridal show/wedding expo\, please contact the event producer through their website or through their FB or Insta Page! \nAnd\, be sure to stop by the Real Weddings booth to get a complimentary copy of the newest issue along with our groovy reusable tote bag\, and enter to win a great giveaway! \nClick here to check out our bridal show tips before you go!\n 
URL:https://realweddingsmag.com/event/international-wedding-festivals-santa-clara-bridal-show-january-2023/
LOCATION:Pavilion Hall at California’s Great America\, 4701 Great America Pkwy\, Santa Clara\, CA\, 95054
ATTACH;FMTTYPE=image/jpeg:https://realweddingsmag.com/wp-content/uploads/2022/10/International-Wedding-Festival-Northern-California-Bridal-Show-Santa-Clara.jpg
ORGANIZER;CN="International Wedding Festival":MAILTO:sales@internationalweddingfestival.com
END:VEVENT
END:VCALENDAR