BEGIN:VCALENDAR
VERSION:2.0
PRODID:-//Real Weddings Magazine - ECPv6.15.20//NONSGML v1.0//EN
CALSCALE:GREGORIAN
METHOD:PUBLISH
X-ORIGINAL-URL:https://realweddingsmag.com
X-WR-CALDESC:Events for Real Weddings Magazine
REFRESH-INTERVAL;VALUE=DURATION:PT1H
X-Robots-Tag:noindex
X-PUBLISHED-TTL:PT1H
BEGIN:VTIMEZONE
TZID:America/Los_Angeles
BEGIN:DAYLIGHT
TZOFFSETFROM:-0800
TZOFFSETTO:-0700
TZNAME:PDT
DTSTART:20230312T100000
END:DAYLIGHT
BEGIN:STANDARD
TZOFFSETFROM:-0700
TZOFFSETTO:-0800
TZNAME:PST
DTSTART:20231105T090000
END:STANDARD
BEGIN:DAYLIGHT
TZOFFSETFROM:-0800
TZOFFSETTO:-0700
TZNAME:PDT
DTSTART:20240310T100000
END:DAYLIGHT
BEGIN:STANDARD
TZOFFSETFROM:-0700
TZOFFSETTO:-0800
TZNAME:PST
DTSTART:20241103T090000
END:STANDARD
BEGIN:DAYLIGHT
TZOFFSETFROM:-0800
TZOFFSETTO:-0700
TZNAME:PDT
DTSTART:20250309T100000
END:DAYLIGHT
BEGIN:STANDARD
TZOFFSETFROM:-0700
TZOFFSETTO:-0800
TZNAME:PST
DTSTART:20251102T090000
END:STANDARD
END:VTIMEZONE
BEGIN:VEVENT
DTSTART;TZID=America/Los_Angeles:20240829T180000
DTEND;TZID=America/Los_Angeles:20240829T200000
DTSTAMP:20260424T074402
CREATED:20240725T181513Z
LAST-MODIFIED:20240725T181513Z
UID:10002208-1724954400-1724961600@realweddingsmag.com
SUMMARY:Winchester Estate by Wedgewood Weddings Fall Wedding Extravaganza - August 2024
DESCRIPTION:You’re invited to Winchester Estate by Wedgewood Weddings first ever Wedding Extravaganza! Come meet vendors\, taste the food\, try the wines\, win some giveaways and mingle! \nEVENT:  Winchester Estate by Wedgewood Weddings Wedding Extravaganza\nWHEN:   Thursday\, August 29\, 2024\nTIME:   6-8 p.m.\nWHERE:   Winchester Estate by Wedgewood Weddings at 3030 Legends Drive in Meadow Vista\, CA 95722\nCOST:  Free event\, but RSVP in advance via email:  WinchesterEstateSales@wedgewoodweddings.com \nFor more information about the venue\, log on to wedgewoodweddings.com/winchesterestate. \nAnd\, be sure to stop by the Real Weddings booth to get a complimentary copy of the newest issue along with our groovy reusable tote bag\, and enter to win a great giveaway! \nClick here to check out our bridal show tips before you go!\n  \n 
URL:https://realweddingsmag.com/event/winchester-estate-by-wedgewood-weddings-fall-wedding-extravaganza-august-2024/
LOCATION:Winchester Estate by Wedgewood Weddings\, 3030 Legends Drive\, Meadow Vista\, 95722\, United States
ATTACH;FMTTYPE=image/jpeg:https://realweddingsmag.com/wp-content/uploads/2024/01/Sacramento-Venue-Winchester-Estate-by-Wedgewood-Weddings-FEATURED.jpg
END:VEVENT
BEGIN:VEVENT
DTSTART;TZID=America/Los_Angeles:20240329T180000
DTEND;TZID=America/Los_Angeles:20240329T200000
DTSTAMP:20260424T074402
CREATED:20240111T224115Z
LAST-MODIFIED:20240111T224115Z
UID:10002196-1711735200-1711742400@realweddingsmag.com
SUMMARY:Winchester Estate by Wedgewood Weddings First Wedding Extravaganza - March 2024
DESCRIPTION:You’re invited to Winchester Estate by Wedgewood Weddings first ever Wedding Extravaganza! Come meet vendors\, taste the food\, try the wines\, win some giveaways and mingle! \nEVENT:  Winchester Estate by Wedgewood Weddings Wedding Extravaganza\nWHEN:   Friday\, March 29\, 2024\nTIME:   6-8 p.m.\nWHERE:   Winchester Estate by Wedgewood Weddings at 3030 Legends Drive in Meadow Vista\, CA 95722\nCOST:  Free event\, but RSVP in advance via email:  WinchesterEstateSales@wedgewoodweddings.com \nFor more information about the venue\, log on to wedgewoodweddings.com/winchesterestate. \nAnd\, be sure to stop by the Real Weddings booth to get a complimentary copy of the newest issue along with our groovy reusable tote bag\, and enter to win a great giveaway! \nClick here to check out our bridal show tips before you go!\n  \n 
URL:https://realweddingsmag.com/event/winchester-estate-by-wedgewood-weddings-open-house-march-2024/
LOCATION:Winchester Estate by Wedgewood Weddings\, 3030 Legends Drive\, Meadow Vista\, 95722\, United States
ATTACH;FMTTYPE=image/jpeg:https://realweddingsmag.com/wp-content/uploads/2024/01/Sacramento-Venue-Winchester-Estate-by-Wedgewood-Weddings-FEATURED.jpg
END:VEVENT
END:VCALENDAR